BEGIN:VCALENDAR
VERSION:2.0
PRODID:-//Chocolarium Ljubljana - ECPv6.15.20//NONSGML v1.0//EN
CALSCALE:GREGORIAN
METHOD:PUBLISH
X-ORIGINAL-URL:https://chocolarium.si
X-WR-CALDESC:Dogodki za Chocolarium Ljubljana
REFRESH-INTERVAL;VALUE=DURATION:PT1H
X-Robots-Tag:noindex
X-PUBLISHED-TTL:PT1H
BEGIN:VTIMEZONE
TZID:Europe/Ljubljana
BEGIN:DAYLIGHT
TZOFFSETFROM:+0100
TZOFFSETTO:+0200
TZNAME:CEST
DTSTART:20250330T010000
END:DAYLIGHT
BEGIN:STANDARD
TZOFFSETFROM:+0200
TZOFFSETTO:+0100
TZNAME:CET
DTSTART:20251026T010000
END:STANDARD
BEGIN:DAYLIGHT
TZOFFSETFROM:+0100
TZOFFSETTO:+0200
TZNAME:CEST
DTSTART:20260329T010000
END:DAYLIGHT
BEGIN:STANDARD
TZOFFSETFROM:+0200
TZOFFSETTO:+0100
TZNAME:CET
DTSTART:20261025T010000
END:STANDARD
BEGIN:DAYLIGHT
TZOFFSETFROM:+0100
TZOFFSETTO:+0200
TZNAME:CEST
DTSTART:20270328T010000
END:DAYLIGHT
BEGIN:STANDARD
TZOFFSETFROM:+0200
TZOFFSETTO:+0100
TZNAME:CET
DTSTART:20271031T010000
END:STANDARD
END:VTIMEZONE
BEGIN:VEVENT
DTSTART;TZID=Europe/Ljubljana:20260325T110000
DTEND;TZID=Europe/Ljubljana:20260325T190000
DTSTAMP:20260421T022620
CREATED:20260224T200718Z
LAST-MODIFIED:20260224T200721Z
UID:10000679-1774436400-1774465200@chocolarium.si
SUMMARY:Obisk čokoladnega muzeja
DESCRIPTION:Vstopnica za ogled čokoladnega muzeja vsebuje voden ogled in okušanje čokolade.  \n\n\n\nPrvi voden ogled je ob 11:30 uri\, zadnji ogled ob 18:00 uri. Vodeni ogledi potekajo na vsako polno uro in trajajo približno 60 minut. \n\n\n\nDoplačilo: Delavnica izdelovanja čokolade (30 min) – najprej si izberete čokoladno osnovo in nato po želji dodajate posipe in sestavine. Naredi čokolado čisto po tvojem okusu. Zadnja delavnica je ob 17:30. \n\n\n\nVstopnice je možno kupiti tudi na blagajni.
URL:https://chocolarium.si/vstopnica/obisk-cokoladnega-muzeja-20/
CATEGORIES:Čokoladni muzej
ATTACH;FMTTYPE=image/png:https://chocolarium.si/wp-content/uploads/2024/09/3-png.webp
END:VEVENT
BEGIN:VEVENT
DTSTART;TZID=Europe/Ljubljana:20260325T183000
DTEND;TZID=Europe/Ljubljana:20260325T200000
DTSTAMP:20260421T022620
CREATED:20260308T144143Z
LAST-MODIFIED:20260309T093734Z
UID:10000695-1774463400-1774468800@chocolarium.si
SUMMARY:Predavanje za mame: Sladko ravnovesje med družino in delom
DESCRIPTION:Predavanje bo vodila ustanoviteljica Nest Coach mag. prim. educ. Vildana Suljić. \n\n\n\nNa večeru bomo skozi življenjski pogled odprli temo ravnovesja med službo in družino ter raziskali\, kako je počutje mamice povezano s počutjem otroka. Ne bo šlo za klasično predavanje\, ampak za iskren razmislek o vsakdanjih trenutkih\, v katerih lahko mamice najdejo več miru\, stabilnosti in podpore. Da se zavemo\, da lahko le mirna mama\, ki skrbi zase predstavlja miren prostor za otroka. \n\n\n\nCilj večera je\, da udeleženke odidejo z občutkom\, da v tem tempu življenja niso same\, ter z eno ali dvema preprostima mislima\, ki jim lahko pomagata v vsakdanjem življenju. Po končanem predvajanu bo čas še za ustvarjanje s čokolado. Vsaka bo naredia 2 čokoladni liziki – zase in darilo za otroka. \n\n\n\nCeloten  dogodek bo trajal približno 90 minut.
URL:https://chocolarium.si/vstopnica/predavanje-za-mame-sladko-ravnovesje-med-druzino-in-delom/
CATEGORIES:posebne delavnice
ATTACH;FMTTYPE=image/jpeg:https://chocolarium.si/wp-content/uploads/2026/03/IMG_6868-scaled.jpg
END:VEVENT
END:VCALENDAR