BEGIN:VCALENDAR
VERSION:2.0
PRODID:-//Chocolarium Ljubljana - ECPv6.15.20//NONSGML v1.0//EN
CALSCALE:GREGORIAN
METHOD:PUBLISH
X-WR-CALNAME:Chocolarium Ljubljana
X-ORIGINAL-URL:https://chocolarium.si
X-WR-CALDESC:Dogodki za Chocolarium Ljubljana
REFRESH-INTERVAL;VALUE=DURATION:PT1H
X-Robots-Tag:noindex
X-PUBLISHED-TTL:PT1H
BEGIN:VTIMEZONE
TZID:Europe/Ljubljana
BEGIN:DAYLIGHT
TZOFFSETFROM:+0100
TZOFFSETTO:+0200
TZNAME:CEST
DTSTART:20250330T010000
END:DAYLIGHT
BEGIN:STANDARD
TZOFFSETFROM:+0200
TZOFFSETTO:+0100
TZNAME:CET
DTSTART:20251026T010000
END:STANDARD
BEGIN:DAYLIGHT
TZOFFSETFROM:+0100
TZOFFSETTO:+0200
TZNAME:CEST
DTSTART:20260329T010000
END:DAYLIGHT
BEGIN:STANDARD
TZOFFSETFROM:+0200
TZOFFSETTO:+0100
TZNAME:CET
DTSTART:20261025T010000
END:STANDARD
BEGIN:DAYLIGHT
TZOFFSETFROM:+0100
TZOFFSETTO:+0200
TZNAME:CEST
DTSTART:20270328T010000
END:DAYLIGHT
BEGIN:STANDARD
TZOFFSETFROM:+0200
TZOFFSETTO:+0100
TZNAME:CET
DTSTART:20271031T010000
END:STANDARD
END:VTIMEZONE
BEGIN:VEVENT
DTSTART;TZID=Europe/Ljubljana:20260205T110000
DTEND;TZID=Europe/Ljubljana:20260205T190000
DTSTAMP:20260420T102902
CREATED:20260121T173811Z
LAST-MODIFIED:20260121T173814Z
UID:10000614-1770289200-1770318000@chocolarium.si
SUMMARY:Obisk čokoladnega muzeja
DESCRIPTION:Vstopnica za ogled čokoladnega muzeja vsebuje voden ogled in okušanje čokolade.  \n\n\n\nPrvi voden ogled je ob 11:30 uri\, zadnji ogled ob 18:00 uri. Vodeni ogledi potekajo na vsako polno uro in trajajo približno 60 minut. \n\n\n\nDoplačilo: Delavnica izdelovanja čokolade (30 min) – najprej si izberete čokoladno osnovo in nato po želji dodajate posipe in sestavine. Naredi čokolado čisto po tvojem okusu. Zadnja delavnica je ob 17:30. \n\n\n\nVstopnice je možno kupiti tudi na blagajni.
URL:https://chocolarium.si/vstopnica/obisk-cokoladnega-muzeja-70/
CATEGORIES:Čokoladni muzej
ATTACH;FMTTYPE=image/png:https://chocolarium.si/wp-content/uploads/2024/09/3-png.webp
END:VEVENT
BEGIN:VEVENT
DTSTART;TZID=Europe/Ljubljana:20260204T110000
DTEND;TZID=Europe/Ljubljana:20260204T190000
DTSTAMP:20260420T102902
CREATED:20260121T173546Z
LAST-MODIFIED:20260121T173549Z
UID:10000613-1770202800-1770231600@chocolarium.si
SUMMARY:Obisk čokoladnega muzeja
DESCRIPTION:Vstopnica za ogled čokoladnega muzeja vsebuje voden ogled in okušanje čokolade.  \n\n\n\nPrvi voden ogled je ob 11:30 uri\, zadnji ogled ob 18:00 uri. Vodeni ogledi potekajo na vsako polno uro in trajajo približno 60 minut. \n\n\n\nDoplačilo: Delavnica izdelovanja čokolade (30 min) – najprej si izberete čokoladno osnovo in nato po želji dodajate posipe in sestavine. Naredi čokolado čisto po tvojem okusu. Zadnja delavnica je ob 17:30. \n\n\n\nVstopnice je možno kupiti tudi na blagajni.
URL:https://chocolarium.si/vstopnica/obisk-cokoladnega-muzeja-69/
CATEGORIES:Čokoladni muzej
ATTACH;FMTTYPE=image/png:https://chocolarium.si/wp-content/uploads/2024/09/3-png.webp
END:VEVENT
BEGIN:VEVENT
DTSTART;TZID=Europe/Ljubljana:20260203T110000
DTEND;TZID=Europe/Ljubljana:20260203T190000
DTSTAMP:20260420T102902
CREATED:20260122T115316Z
LAST-MODIFIED:20260122T115320Z
UID:10000625-1770116400-1770145200@chocolarium.si
SUMMARY:Torkov obisk čokoladnega muzeja
DESCRIPTION:Vstopnica za ogled čokoladnega muzeja vsebuje voden ogled in okušanje čokolade.  \n\n\n\nPrvi voden ogled je ob 11:30 uri\, zadnji ogled ob 18:00 uri. Med tem ogledi potekajo na vsako polno uro in trajajo približno 60 minut. \n\n\n\nDoplačilo: Delavnica izdelovanja čokolade (do 20 min) – najprej si izberete čokoladno osnovo in nato po želji dodajate posipe in sestavine. Naredi čokolado čisto po tvojem okusu. Zadnja delavnica je ob 17:30. \n\n\n\nVstopnice je možno kupiti tudi na blagajni.
URL:https://chocolarium.si/vstopnica/torkov-obisk-cokoladnega-muzeja/
CATEGORIES:Čokoladni muzej
ATTACH;FMTTYPE=image/png:https://chocolarium.si/wp-content/uploads/2024/09/3-png.webp
END:VEVENT
BEGIN:VEVENT
DTSTART;TZID=Europe/Ljubljana:20260201T100000
DTEND;TZID=Europe/Ljubljana:20260201T190000
DTSTAMP:20260420T102902
CREATED:20260121T174324Z
LAST-MODIFIED:20260121T174327Z
UID:10000617-1769940000-1769972400@chocolarium.si
SUMMARY:Obisk čokoladnega muzeja
DESCRIPTION:Vstopnica za ogled čokoladnega muzeja vsebuje voden ogled in okušanje čokolade.  \n\n\n\nPrvi voden ogled je ob 10:30 uri\, zadnji ogled ob 18:00 uri. Med tem ogledi potekajo na vsako polno uro in trajajo približno 60 minut. \n\n\n\nDoplačilo: Delavnica izdelovanja čokolade (30 min) – najprej si izberete čokoladno osnovo in nato po želji dodajate posipe in sestavine. Naredi čokolado čisto po tvojem okusu. Zadnja delavnica je ob 17:30. \n\n\n\nVstopnice je možno kupiti tudi na blagajni.
URL:https://chocolarium.si/vstopnica/obisk-cokoladnega-muzeja-73/
CATEGORIES:Čokoladni muzej
ATTACH;FMTTYPE=image/png:https://chocolarium.si/wp-content/uploads/2024/09/3-png.webp
END:VEVENT
BEGIN:VEVENT
DTSTART;TZID=Europe/Ljubljana:20260131T160000
DTEND;TZID=Europe/Ljubljana:20260131T163000
DTSTAMP:20260420T102902
CREATED:20260127T104947Z
LAST-MODIFIED:20260127T104950Z
UID:10000641-1769875200-1769877000@chocolarium.si
SUMMARY:Delavnica čokoladnih lizik
DESCRIPTION:Na delavnici boste ustvarili svoje čokoladne lizike različnih oblik. Najprej si izberete čokolado po svojem okusu in jo oblikujejo v liziko poljubne oblike. Vanjo dodajo palčko\, nato pa svojo liziko okrasijo s posipi\, drobnimi dekoracijami in dodatno stopljeno čokolado. \n\n\n\nVsak  izdela 3 lizike z motivom po želji\, ki ju lahko odnese domov ali podari. \n\n\n\n \n\n\n\nVključuje: animatorko\, zaščitno opremo\, vso čokolado in posipe. Za otroke nad 5. let.   \n\n\n\nTrajanje:  približno 30 minut
URL:https://chocolarium.si/vstopnica/delavnica-cokoladnih-lizik-3/
CATEGORIES:Izdelava čokolade
ATTACH;FMTTYPE=image/jpeg:https://chocolarium.si/wp-content/uploads/2025/12/IMG_9355-2.jpg
END:VEVENT
BEGIN:VEVENT
DTSTART;TZID=Europe/Ljubljana:20260131T100000
DTEND;TZID=Europe/Ljubljana:20260131T200000
DTSTAMP:20260420T102902
CREATED:20260106T115422Z
LAST-MODIFIED:20260106T115427Z
UID:10000605-1769853600-1769889600@chocolarium.si
SUMMARY:Obisk čokoladnega muzeja
DESCRIPTION:Vstopnica za ogled čokoladnega muzeja vsebuje voden ogled in okušanje čokolade.  \n\n\n\nPrvi voden ogled je ob 10:30 uri\, zadnji ogled ob 19:00 uri. Vodeni ogledi potekajo na vsako polno uro in trajajo približno 60 minut. \n\n\n\nDoplačilo: Delavnica izdelovanja čokolade (30 min) – najprej si izberete čokoladno osnovo in nato po želji dodajate posipe in sestavine. Naredi čokolado čisto po tvojem okusu. Zadnja delavnica je ob 17:30. \n\n\n\nVstopnice je možno kupiti tudi na blagajni.
URL:https://chocolarium.si/vstopnica/obisk-cokoladnega-muzeja-67/
CATEGORIES:Čokoladni muzej
ATTACH;FMTTYPE=image/png:https://chocolarium.si/wp-content/uploads/2024/09/3-png.webp
END:VEVENT
BEGIN:VEVENT
DTSTART;TZID=Europe/Ljubljana:20260130T110000
DTEND;TZID=Europe/Ljubljana:20260130T200000
DTSTAMP:20260420T102902
CREATED:20260106T115130Z
LAST-MODIFIED:20260106T115134Z
UID:10000603-1769770800-1769803200@chocolarium.si
SUMMARY:Obisk čokoladnega muzeja
DESCRIPTION:Vstopnica za ogled čokoladnega muzeja vsebuje voden ogled in okušanje čokolade.  \n\n\n\nPrvi voden ogled je ob 11:30 uri\, zadnji ogled ob 19:00 uri. Vodeni ogledi potekajo na vsako polno uro in trajajo približno 60 minut. \n\n\n\nDoplačilo: Delavnica izdelovanja čokolade (30 min) – najprej si izberete čokoladno osnovo in nato po želji dodajate posipe in sestavine. Naredi čokolado čisto po tvojem okusu. Zadnja delavnica je ob 17:30. \n\n\n\nVstopnice je možno kupiti tudi na blagajni.
URL:https://chocolarium.si/vstopnica/obisk-cokoladnega-muzeja-66/
CATEGORIES:Čokoladni muzej
ATTACH;FMTTYPE=image/png:https://chocolarium.si/wp-content/uploads/2024/09/3-png.webp
END:VEVENT
BEGIN:VEVENT
DTSTART;TZID=Europe/Ljubljana:20260129T110000
DTEND;TZID=Europe/Ljubljana:20260129T200000
DTSTAMP:20260420T102902
CREATED:20260106T114922Z
LAST-MODIFIED:20260106T114927Z
UID:10000602-1769684400-1769716800@chocolarium.si
SUMMARY:Obisk čokoladnega muzeja
DESCRIPTION:Vstopnica za ogled čokoladnega muzeja vsebuje voden ogled in okušanje čokolade.  \n\n\n\nPrvi voden ogled je ob 11:30 uri\, zadnji ogled ob 19:00 uri. Vodeni ogledi potekajo na vsako polno uro in trajajo približno 60 minut. \n\n\n\nDoplačilo: Delavnica izdelovanja čokolade (30 min) – najprej si izberete čokoladno osnovo in nato po želji dodajate posipe in sestavine. Naredi čokolado čisto po tvojem okusu. Zadnja delavnica je ob 17:30. \n\n\n\nVstopnice je možno kupiti tudi na blagajni.
URL:https://chocolarium.si/vstopnica/obisk-cokoladnega-muzeja-65/
CATEGORIES:Čokoladni muzej
ATTACH;FMTTYPE=image/png:https://chocolarium.si/wp-content/uploads/2024/09/3-png.webp
END:VEVENT
BEGIN:VEVENT
DTSTART;TZID=Europe/Ljubljana:20260128T110000
DTEND;TZID=Europe/Ljubljana:20260128T200000
DTSTAMP:20260420T102902
CREATED:20260106T114649Z
LAST-MODIFIED:20260106T114653Z
UID:10000601-1769598000-1769630400@chocolarium.si
SUMMARY:Obisk čokoladnega muzeja
DESCRIPTION:Vstopnica za ogled čokoladnega muzeja vsebuje voden ogled in okušanje čokolade.  \n\n\n\nPrvi voden ogled je ob 11:30 uri\, zadnji ogled ob 19:00 uri. Vodeni ogledi potekajo na vsako polno uro in trajajo približno 60 minut. \n\n\n\nDoplačilo: Delavnica izdelovanja čokolade (30 min) – najprej si izberete čokoladno osnovo in nato po želji dodajate posipe in sestavine. Naredi čokolado čisto po tvojem okusu. Zadnja delavnica je ob 17:30. \n\n\n\nVstopnice je možno kupiti tudi na blagajni.
URL:https://chocolarium.si/vstopnica/obisk-cokoladnega-muzeja-64/
CATEGORIES:Čokoladni muzej
ATTACH;FMTTYPE=image/png:https://chocolarium.si/wp-content/uploads/2024/09/3-png.webp
END:VEVENT
BEGIN:VEVENT
DTSTART;TZID=Europe/Ljubljana:20260127T110000
DTEND;TZID=Europe/Ljubljana:20260127T200000
DTSTAMP:20260420T102902
CREATED:20260106T114356Z
LAST-MODIFIED:20260106T114401Z
UID:10000600-1769511600-1769544000@chocolarium.si
SUMMARY:Obisk čokoladnega muzeja
DESCRIPTION:Vstopnica za ogled čokoladnega muzeja vsebuje voden ogled in okušanje čokolade.  \n\n\n\nPrvi voden ogled je ob 11:30 uri\, zadnji ogled ob 19:00 uri. Vodeni ogledi potekajo na vsako polno uro in trajajo približno 60 minut. \n\n\n\nDoplačilo: Delavnica izdelovanja čokolade (30 min) – najprej si izberete čokoladno osnovo in nato po želji dodajate posipe in sestavine. Naredi čokolado čisto po tvojem okusu. Zadnja delavnica je ob 17:30. \n\n\n\nVstopnice je možno kupiti tudi na blagajni.
URL:https://chocolarium.si/vstopnica/obisk-cokoladnega-muzeja-63/
CATEGORIES:Čokoladni muzej
ATTACH;FMTTYPE=image/png:https://chocolarium.si/wp-content/uploads/2024/09/3-png.webp
END:VEVENT
BEGIN:VEVENT
DTSTART;TZID=Europe/Ljubljana:20260126T110000
DTEND;TZID=Europe/Ljubljana:20260126T200000
DTSTAMP:20260420T102902
CREATED:20260106T114150Z
LAST-MODIFIED:20260106T114155Z
UID:10000599-1769425200-1769457600@chocolarium.si
SUMMARY:Obisk čokoladnega muzeja
DESCRIPTION:Vstopnica za ogled čokoladnega muzeja vsebuje voden ogled in okušanje čokolade.  \n\n\n\nPrvi voden ogled je ob 11:30 uri\, zadnji ogled ob 19:00 uri. Vodeni ogledi potekajo na vsako polno uro in trajajo približno 60 minut. \n\n\n\nDoplačilo: Delavnica izdelovanja čokolade (30 min) – najprej si izberete čokoladno osnovo in nato po želji dodajate posipe in sestavine. Naredi čokolado čisto po tvojem okusu. Zadnja delavnica je ob 17:30. \n\n\n\nVstopnice je možno kupiti tudi na blagajni.
URL:https://chocolarium.si/vstopnica/obisk-cokoladnega-muzeja-62/
CATEGORIES:Čokoladni muzej
ATTACH;FMTTYPE=image/png:https://chocolarium.si/wp-content/uploads/2024/09/3-png.webp
END:VEVENT
BEGIN:VEVENT
DTSTART;TZID=Europe/Ljubljana:20260125T100000
DTEND;TZID=Europe/Ljubljana:20260125T190000
DTSTAMP:20260420T102902
CREATED:20260106T113902Z
LAST-MODIFIED:20260106T113906Z
UID:10000598-1769335200-1769367600@chocolarium.si
SUMMARY:Obisk čokoladnega muzeja
DESCRIPTION:Vstopnica za ogled čokoladnega muzeja vsebuje voden ogled in okušanje čokolade.  \n\n\n\nPrvi voden ogled je ob 10:30 uri\, zadnji ogled ob 18:00 uri. Med tem ogledi potekajo na vsako polno uro in trajajo približno 60 minut. \n\n\n\nDoplačilo: Delavnica izdelovanja čokolade (30 min) – najprej si izberete čokoladno osnovo in nato po želji dodajate posipe in sestavine. Naredi čokolado čisto po tvojem okusu. Zadnja delavnica je ob 17:30. \n\n\n\nVstopnice je možno kupiti tudi na blagajni.
URL:https://chocolarium.si/vstopnica/obisk-cokoladnega-muzeja-61/
CATEGORIES:Čokoladni muzej
ATTACH;FMTTYPE=image/png:https://chocolarium.si/wp-content/uploads/2024/09/3-png.webp
END:VEVENT
BEGIN:VEVENT
DTSTART;TZID=Europe/Ljubljana:20260124T100000
DTEND;TZID=Europe/Ljubljana:20260124T200000
DTSTAMP:20260420T102902
CREATED:20260106T113428Z
LAST-MODIFIED:20260106T113432Z
UID:10000596-1769248800-1769284800@chocolarium.si
SUMMARY:Obisk čokoladnega muzeja
DESCRIPTION:Vstopnica za ogled čokoladnega muzeja vsebuje voden ogled in okušanje čokolade.  \n\n\n\nPrvi voden ogled je ob 10:30 uri\, zadnji ogled ob 19:00 uri. Vodeni ogledi potekajo na vsako polno uro in trajajo približno 60 minut. \n\n\n\nDoplačilo: Delavnica izdelovanja čokolade (30 min) – najprej si izberete čokoladno osnovo in nato po želji dodajate posipe in sestavine. Naredi čokolado čisto po tvojem okusu. Zadnja delavnica je ob 17:30. \n\n\n\nVstopnice je možno kupiti tudi na blagajni.
URL:https://chocolarium.si/vstopnica/obisk-cokoladnega-muzeja-59/
CATEGORIES:Čokoladni muzej
ATTACH;FMTTYPE=image/png:https://chocolarium.si/wp-content/uploads/2024/09/3-png.webp
END:VEVENT
BEGIN:VEVENT
DTSTART;TZID=Europe/Ljubljana:20260123T110000
DTEND;TZID=Europe/Ljubljana:20260123T200000
DTSTAMP:20260420T102902
CREATED:20260106T113154Z
LAST-MODIFIED:20260106T113200Z
UID:10000595-1769166000-1769198400@chocolarium.si
SUMMARY:Obisk čokoladnega muzeja
DESCRIPTION:Vstopnica za ogled čokoladnega muzeja vsebuje voden ogled in okušanje čokolade.  \n\n\n\nPrvi voden ogled je ob 11:30 uri\, zadnji ogled ob 19:00 uri. Vodeni ogledi potekajo na vsako polno uro in trajajo približno 60 minut. \n\n\n\nDoplačilo: Delavnica izdelovanja čokolade (30 min) – najprej si izberete čokoladno osnovo in nato po želji dodajate posipe in sestavine. Naredi čokolado čisto po tvojem okusu. Zadnja delavnica je ob 17:30. \n\n\n\nVstopnice je možno kupiti tudi na blagajni.
URL:https://chocolarium.si/vstopnica/obisk-cokoladnega-muzeja-58/
CATEGORIES:Čokoladni muzej
ATTACH;FMTTYPE=image/png:https://chocolarium.si/wp-content/uploads/2024/09/3-png.webp
END:VEVENT
BEGIN:VEVENT
DTSTART;TZID=Europe/Ljubljana:20260122T110000
DTEND;TZID=Europe/Ljubljana:20260122T200000
DTSTAMP:20260420T102902
CREATED:20260106T112708Z
LAST-MODIFIED:20260106T112913Z
UID:10000594-1769079600-1769112000@chocolarium.si
SUMMARY:Obisk čokoladnega muzeja
DESCRIPTION:Vstopnica za ogled čokoladnega muzeja vsebuje voden ogled in okušanje čokolade.  \n\n\n\nPrvi voden ogled je ob 11:30 uri\, zadnji ogled ob 19:00 uri. Vodeni ogledi potekajo na vsako polno uro in trajajo približno 60 minut. \n\n\n\nDoplačilo: Delavnica izdelovanja čokolade (30 min) – najprej si izberete čokoladno osnovo in nato po želji dodajate posipe in sestavine. Naredi čokolado čisto po tvojem okusu. Zadnja delavnica je ob 17:30. \n\n\n\nVstopnice je možno kupiti tudi na blagajni.
URL:https://chocolarium.si/vstopnica/obisk-cokoladnega-muzeja-57/
CATEGORIES:Čokoladni muzej
ATTACH;FMTTYPE=image/png:https://chocolarium.si/wp-content/uploads/2024/09/3-png.webp
END:VEVENT
BEGIN:VEVENT
DTSTART;TZID=Europe/Ljubljana:20260121T110000
DTEND;TZID=Europe/Ljubljana:20260121T200000
DTSTAMP:20260420T102902
CREATED:20260121T115910Z
LAST-MODIFIED:20260121T115913Z
UID:10000612-1768993200-1769025600@chocolarium.si
SUMMARY:Obisk čokoladnega muzeja
DESCRIPTION:Vstopnica za ogled čokoladnega muzeja vsebuje voden ogled in okušanje čokolade.  \n\n\n\nPrvi voden ogled je ob 11:30 uri\, zadnji ogled ob 18:00 uri. Vodeni ogledi potekajo na vsako polno uro in trajajo približno 60 minut. \n\n\n\nDoplačilo: Delavnica izdelovanja čokolade (30 min) – najprej si izberete čokoladno osnovo in nato po želji dodajate posipe in sestavine. Naredi čokolado čisto po tvojem okusu. Zadnja delavnica je ob 17:30. \n\n\n\nVstopnice je možno kupiti tudi na blagajni.
URL:https://chocolarium.si/vstopnica/obisk-cokoladnega-muzeja-68/
CATEGORIES:Čokoladni muzej
ATTACH;FMTTYPE=image/png:https://chocolarium.si/wp-content/uploads/2024/09/3-png.webp
END:VEVENT
BEGIN:VEVENT
DTSTART;TZID=Europe/Ljubljana:20260120T110000
DTEND;TZID=Europe/Ljubljana:20260120T200000
DTSTAMP:20260420T102902
CREATED:20260106T112453Z
LAST-MODIFIED:20260106T112500Z
UID:10000593-1768906800-1768939200@chocolarium.si
SUMMARY:Obisk čokoladnega muzeja
DESCRIPTION:Vstopnica za ogled čokoladnega muzeja vsebuje voden ogled in okušanje čokolade.  \n\n\n\nPrvi voden ogled je ob 11:30 uri\, zadnji ogled ob 19:00 uri. Vodeni ogledi potekajo na vsako polno uro in trajajo približno 60 minut. \n\n\n\nDoplačilo: Delavnica izdelovanja čokolade (30 min) – najprej si izberete čokoladno osnovo in nato po želji dodajate posipe in sestavine. Naredi čokolado čisto po tvojem okusu. Zadnja delavnica je ob 17:30. \n\n\n\nVstopnice je možno kupiti tudi na blagajni.
URL:https://chocolarium.si/vstopnica/obisk-cokoladnega-muzeja-56/
CATEGORIES:Čokoladni muzej
ATTACH;FMTTYPE=image/png:https://chocolarium.si/wp-content/uploads/2024/09/3-png.webp
END:VEVENT
END:VCALENDAR